BEGIN:VCALENDAR
VERSION:2.0
PRODID:-//Energy Storage Europe - ECPv6.11.2.1//NONSGML v1.0//EN
CALSCALE:GREGORIAN
METHOD:PUBLISH
X-ORIGINAL-URL:https://energystorageeurope.eu
X-WR-CALDESC:Events for Energy Storage Europe
REFRESH-INTERVAL;VALUE=DURATION:PT1H
X-Robots-Tag:noindex
X-PUBLISHED-TTL:PT1H
BEGIN:VTIMEZONE
TZID:Europe/Brussels
BEGIN:DAYLIGHT
TZOFFSETFROM:+0100
TZOFFSETTO:+0200
TZNAME:CEST
DTSTART:20260329T010000
END:DAYLIGHT
BEGIN:STANDARD
TZOFFSETFROM:+0200
TZOFFSETTO:+0100
TZNAME:CET
DTSTART:20261025T010000
END:STANDARD
END:VTIMEZONE
BEGIN:VEVENT
DTSTART;VALUE=DATE:20260303
DTEND;VALUE=DATE:20260305
DTSTAMP:20260421T134355
CREATED:20260127T102834Z
LAST-MODIFIED:20260127T102942Z
UID:26785-1772496000-1772668799@energystorageeurope.eu
SUMMARY:2026 Offshore Interconnection & BESS Summit
DESCRIPTION:The Energy Storage Europe Association is pleased to support the 2026 Offshore Interconnection & BESS Summit\, taking place on 3–4 March 2026 in Madrid\, Spain. The event brings together policymakers\, system operators\, developers\, technology providers\, and industry stakeholders from across the electricity value chain\, offering a strategic platform for dialogue\, professional networking\, and the exchange of best practices on offshore interconnection and battery energy storage. \nThe summit features expert-led sessions and case studies focused on offshore infrastructure\, cross-border energy integration\, regulatory and compliance frameworks\, and technological innovation supporting net-zero objectives. With a strong international audience\, participants will gain valuable insights into market developments\, policy trends\, and practical solutions shaping the future of offshore interconnection and BESS. \nRegister here!
URL:https://energystorageeurope.eu/event/2026-offshore-interconnection-bess-summit/
LOCATION:Madrid\, Spain
CATEGORIES:Events,Supported Events
END:VEVENT
BEGIN:VEVENT
DTSTART;VALUE=DATE:20260304
DTEND;VALUE=DATE:20260307
DTSTAMP:20260421T134355
CREATED:20260115T082204Z
LAST-MODIFIED:20260115T082204Z
UID:26741-1772582400-1772841599@energystorageeurope.eu
SUMMARY:KEY - The Energy Transition Expo
DESCRIPTION:The Energy Storage Europe Association is pleased to support KEY – The Energy Transition Expo\, taking place on 4–6 March 2026. As one of Europe’s leading events dedicated to energy efficiency and renewable energies\, the exhibition brings together companies\, institutions\, and stakeholders from across the entire energy value chain\, offering a strategic platform for dialogue\, professional networking\, and the development of international business opportunities. \nKEY features exhibitors from around the world showcasing innovative technologies\, solutions\, and services for a sustainable energy future. With a strong international presence\, the event provides valuable insights into market trends\, policy developments\, and technological innovation driving the global energy transition. \nRegister here!
URL:https://energystorageeurope.eu/event/key-the-energy-transition-expo-3/
LOCATION:Rimini\, Italy
CATEGORIES:Events,Supported Events
END:VEVENT
BEGIN:VEVENT
DTSTART;VALUE=DATE:20260317
DTEND;VALUE=DATE:20260319
DTSTAMP:20260421T134355
CREATED:20260209T141047Z
LAST-MODIFIED:20260209T141329Z
UID:26846-1773705600-1773878399@energystorageeurope.eu
SUMMARY:RENMAD Almacenamiento 2026
DESCRIPTION:Energy Storage Europe is glad to join as Knowledge Partners in RENMAD Almacenamiento 2026\, which will take place on 17–18 March 2026 in Seville and will bring together over 550 attendees\, 80 high-level speakers\, and 2 days of networking. \nAt RENMAD Storage 2026 we will bring together industry leaders to share strategies\, case studies and the vision of the most influential experts. We will address the major issues in the sector: costs\, hybrid models\, the role of aggregators and VPPs\, as well as the latest regulatory and financing developments. \nThis is a key year for the energy storage sector in Spain. With the first auction scheduled for 2026\, more than 22 GW as a target for 2030 and thousands of MW already underway\, the market is preparing to take off. Globally\, investment in storage exceeded 54\,000 million and installed capacity will soon reach 150 GWh. \nRegister here!
URL:https://energystorageeurope.eu/event/renmad-almacenamiento-2026/
LOCATION:Sevilla
CATEGORIES:Events,Supported Events
END:VEVENT
BEGIN:VEVENT
DTSTART;TZID=Europe/Brussels:20260319T150000
DTEND;TZID=Europe/Brussels:20260319T160000
DTSTAMP:20260421T134355
CREATED:20260316T141504Z
LAST-MODIFIED:20260316T141743Z
UID:26919-1773932400-1773936000@energystorageeurope.eu
SUMMARY:Path to Bankability: Unlocking Investment in Long-Duration Energy Storage
DESCRIPTION:Energy Storage Europe is glad to invite you to a webinar\, “Path to Bankability: Unlocking Investment in Long-Duration Energy Storage“ on 19 March 2026 at 15:00 CET. \nThis joint webinar\, organised by Flow Batteries Europe\, the LDES Council and Energy Storage Europe brings together leading policy\, finance\, and industry perspectives to examine what it will take to unlock investment and accelerate LDES deployment across Europe and globally. \nWhy you should attend: \n\nUnderstand how policy\, governance\, and market structures directly impact project bankability\nLearn from emerging best practices and proven frameworks already shaping the sector\nDiscover how innovative revenue mechanisms\, including cap & floor approaches\, can create investable projects\nGain actionable perspectives from industry and policy leaders\n\nSpeakers:\nModerator: Anthony Price\, Secretary General\, FBE \nJulia Souder\, CEO\, LDES Council\nAdam Howard\, CFO\, Invinity Energy Systems\nJesse Terry\, Policy Officer\, FBE\nCarolina Cruz\, Representative of the Long Duration Energy Storage Task Force\, Energy Storage Europe \nImportant!\nAll the slides and the webinar recording will be shared with all those who have registered for the webinar. \n  \nRegister here! 
URL:https://energystorageeurope.eu/event/path-to-bankability-unlocking-investment-in-long-duration-energy-storage/
LOCATION:Online
CATEGORIES:Events,EASE Event
END:VEVENT
END:VCALENDAR